BEGIN:VCALENDAR
PRODID:-//Calendar export
VERSION:2.0
X-WR-TIMEZONE:Etc/GMT
BEGIN:VTIMEZONE
TZID:GMT Standard Time
BEGIN:STANDARD
TZOFFSETFROM:+0000
TZOFFSETTO:+0000
END:STANDARD
END:VTIMEZONE
BEGIN:VEVENT
UID:AE438
DTSTAMP:20260423T183500Z
SUMMARY:CAMPIONATO MOTORNEXT  OVER 50-2T-EPOCA-FEMMINILE
CLASS:PUBLIC
DESCRIPTION:
STATUS:CONFIRMED
PRIORITY:1
DTSTART:20260425T220000Z
DTEND:20260426T213000Z
TRANSP:OPAQUE
END:VEVENT
END:VCALENDAR
